BEGIN:VCALENDAR
VERSION:2.0
PRODID:-//Cork College of Commerce - ECPv4.6.1//NONSGML v1.0//EN
CALSCALE:GREGORIAN
METHOD:PUBLISH
X-WR-CALNAME:Cork College of Commerce
X-ORIGINAL-URL:http://corkcollegeofcommerce.ie
X-WR-CALDESC:Events for Cork College of Commerce
BEGIN:VEVENT
DTSTART;TZID=Europe/Dublin:20171018T120000
DTEND;TZID=Europe/Dublin:20171018T121000
DTSTAMP:20171029T234950
CREATED:20171013T142353Z
LAST-MODIFIED:20171013T142353Z
UID:9784-1508328000-1508328600@corkcollegeofcommerce.ie
SUMMARY:Climbing Wall Meeting
DESCRIPTION:VENUE:  AWESOME WALLS SPORTS VILLAGE\, EDEN HALL\, MODEL FARM ROAD\, CORK.\nURL: www.awesomewalls.ie\nPHONE:  021 4867060 \nDAY: Wednesday 25th october 2017 – 5:00pm to 6:00pm. \nDónal Linehan has made a provisional booking for the above date. The cost per student will be €7. This will include a taxi to the venue. \nIf you are interested\, attend a meeting in room 112 on Tuesday 17th or Wednesday 18th October\, at 12 noon. \n
URL:http://corkcollegeofcommerce.ie/event/climbing-wall-meeting-2/
END:VEVENT
END:VCALENDAR