BEGIN:VCALENDAR
VERSION:2.0
PRODID:-//Cork College of Commerce - ECPv4.6.1//NONSGML v1.0//EN
CALSCALE:GREGORIAN
METHOD:PUBLISH
X-WR-CALNAME:Cork College of Commerce
X-ORIGINAL-URL:http://corkcollegeofcommerce.ie
X-WR-CALDESC:Events for Cork College of Commerce
BEGIN:VEVENT
DTSTART;TZID=Europe/Dublin:20171011T150000
DTEND;TZID=Europe/Dublin:20171011T153000
DTSTAMP:20171029T234404
CREATED:20171004T224745Z
LAST-MODIFIED:20171004T224745Z
UID:9679-1507734000-1507735800@corkcollegeofcommerce.ie
SUMMARY:FINAL Work Experience Mop-Up Session
DESCRIPTION:If you have not attended a Work Experience Induction\, and do not yet have a Work Experience Pack\,  you must attend this FINAL session. \nThis session is also for students who have transferred from other courses and have not yet met Vivienne Condon. \n
URL:http://corkcollegeofcommerce.ie/event/final-work-experience-mop-session/
CATEGORIES:Mop-Up
END:VEVENT
END:VCALENDAR