BEGIN:VCALENDAR
VERSION:2.0
PRODID:-//Cork College of Commerce - ECPv4.6.1//NONSGML v1.0//EN
CALSCALE:GREGORIAN
METHOD:PUBLISH
X-WR-CALNAME:Cork College of Commerce
X-ORIGINAL-URL:http://corkcollegeofcommerce.ie
X-WR-CALDESC:Events for Cork College of Commerce
BEGIN:VEVENT
DTSTART;TZID=Europe/Dublin:20171024T110000
DTEND;TZID=Europe/Dublin:20171024T110000
DTSTAMP:20171030T000347
CREATED:20171005T143448Z
LAST-MODIFIED:20171010T123054Z
UID:9690-1508842800-1508842800@corkcollegeofcommerce.ie
SUMMARY:Guest Speaker - Helen Murphy
DESCRIPTION:Helen Murphy from Statsols on Tuesday 24th of October at 11am to meet with L5 Business and L5 Marketing \n
URL:http://corkcollegeofcommerce.ie/event/guest-speaker-helen-murphy/
CATEGORIES:Guest Speaker
END:VEVENT
END:VCALENDAR