BEGIN:VCALENDAR
VERSION:2.0
PRODID:-//Cork College of Commerce - ECPv4.6.1//NONSGML v1.0//EN
CALSCALE:GREGORIAN
METHOD:PUBLISH
X-WR-CALNAME:Cork College of Commerce
X-ORIGINAL-URL:http://corkcollegeofcommerce.ie
X-WR-CALDESC:Events for Cork College of Commerce
BEGIN:VEVENT
DTSTART;TZID=Europe/Dublin:20171018T120000
DTEND;TZID=Europe/Dublin:20171018T130000
DTSTAMP:20171029T234902
CREATED:20170919T215025Z
LAST-MODIFIED:20170929T160056Z
UID:9367-1508328000-1508331600@corkcollegeofcommerce.ie
SUMMARY:Guidance Seminar - Professional Cookery - PB & PC
DESCRIPTION:
URL:http://corkcollegeofcommerce.ie/event/guidance-seminar-professional-cookery-pb-pc/
CATEGORIES:Guidance Seminar
END:VEVENT
END:VCALENDAR