BEGIN:VCALENDAR
VERSION:2.0
PRODID:-//Cork College of Commerce - ECPv4.6.1//NONSGML v1.0//EN
CALSCALE:GREGORIAN
METHOD:PUBLISH
X-WR-CALNAME:Cork College of Commerce
X-ORIGINAL-URL:http://corkcollegeofcommerce.ie
X-WR-CALDESC:Events for Cork College of Commerce
BEGIN:VEVENT
DTSTART;TZID=Europe/Dublin:20171010T120000
DTEND;TZID=Europe/Dublin:20171010T130000
DTSTAMP:20171029T234301
CREATED:20170919T213953Z
LAST-MODIFIED:20170929T160325Z
UID:9345-1507636800-1507640400@corkcollegeofcommerce.ie
SUMMARY:Guidance Seminar - Psychosocial Awareness\, Level 6
DESCRIPTION:
URL:http://corkcollegeofcommerce.ie/event/guidance-seminar-psychosocial-awareness-level-6/
CATEGORIES:Guidance Seminar
END:VEVENT
END:VCALENDAR