BEGIN:VCALENDAR
VERSION:2.0
PRODID:-//Cork College of Commerce - ECPv4.6.1//NONSGML v1.0//EN
CALSCALE:GREGORIAN
METHOD:PUBLISH
X-WR-CALNAME:Cork College of Commerce
X-ORIGINAL-URL:http://corkcollegeofcommerce.ie
X-WR-CALDESC:Events for Cork College of Commerce
BEGIN:VEVENT
DTSTART;TZID=Europe/Dublin:20171017T120000
DTEND;TZID=Europe/Dublin:20171017T130000
DTSTAMP:20171029T234720
CREATED:20170919T214840Z
LAST-MODIFIED:20170929T160119Z
UID:9363-1508241600-1508245200@corkcollegeofcommerce.ie
SUMMARY:Guidance Seminar - Childcare\, Level 6 - NA and NB
DESCRIPTION:
URL:http://corkcollegeofcommerce.ie/event/guidance-session-childcare-level-6-na-nb/
CATEGORIES:Guidance Seminar
END:VEVENT
END:VCALENDAR