BEGIN:VCALENDAR
VERSION:2.0
PRODID:-//Cork College of Commerce - ECPv4.6.1//NONSGML v1.0//EN
CALSCALE:GREGORIAN
METHOD:PUBLISH
X-WR-CALNAME:Cork College of Commerce
X-ORIGINAL-URL:http://corkcollegeofcommerce.ie
X-WR-CALDESC:Events for Cork College of Commerce
BEGIN:VEVENT
DTSTART;TZID=Europe/Dublin:20171018T100000
DTEND;TZID=Europe/Dublin:20171018T110000
DTSTAMP:20171029T234823
CREATED:20170919T214926Z
LAST-MODIFIED:20170929T160106Z
UID:9365-1508320800-1508324400@corkcollegeofcommerce.ie
SUMMARY:Guidance Seminar - FIT (all class groups)
DESCRIPTION:
URL:http://corkcollegeofcommerce.ie/event/guidance-session-fit-class-groups/
CATEGORIES:Guidance Seminar
END:VEVENT
END:VCALENDAR