BEGIN:VCALENDAR
VERSION:2.0
PRODID:-//Cork College of Commerce - ECPv4.6.1//NONSGML v1.0//EN
CALSCALE:GREGORIAN
METHOD:PUBLISH
X-WR-CALNAME:Cork College of Commerce
X-ORIGINAL-URL:http://corkcollegeofcommerce.ie
X-WR-CALDESC:Events for Cork College of Commerce
BEGIN:VEVENT
DTSTART;TZID=Europe/Dublin:20171019T120000
DTEND;TZID=Europe/Dublin:20171019T170000
DTSTAMP:20171029T235055
CREATED:20171018T123819Z
LAST-MODIFIED:20171018T123819Z
UID:9792-1508414400-1508432400@corkcollegeofcommerce.ie
SUMMARY:ID Card Mop Up Session
DESCRIPTION:There will be a an id mop-up Thursday 19th at 12 in room 109. \n
URL:http://corkcollegeofcommerce.ie/event/id-card-mop-session-7/
CATEGORIES:Mop-Up
END:VEVENT
END:VCALENDAR