BEGIN:VCALENDAR
VERSION:2.0
PRODID:-//Cork College of Commerce - ECPv4.6.1//NONSGML v1.0//EN
CALSCALE:GREGORIAN
METHOD:PUBLISH
X-WR-CALNAME:Cork College of Commerce
X-ORIGINAL-URL:http://corkcollegeofcommerce.ie
X-WR-CALDESC:Events for Cork College of Commerce
BEGIN:VEVENT
DTSTART;TZID=Europe/Dublin:20171024T120000
DTEND;TZID=Europe/Dublin:20171024T170000
DTSTAMP:20171030T000419
CREATED:20171013T120425Z
LAST-MODIFIED:20171013T120425Z
UID:9745-1508846400-1508864400@corkcollegeofcommerce.ie
SUMMARY:LinkedIn Workshop
DESCRIPTION:\n\n\n061NB\nLinkedIn\n24th Oct\n12noon\nG26\n\n\n\n
URL:http://corkcollegeofcommerce.ie/event/linkedin-workshop-12/
CATEGORIES:LinkedIn Workshop
END:VEVENT
END:VCALENDAR