BEGIN:VCALENDAR
VERSION:2.0
PRODID:-//Cork College of Commerce - ECPv4.6.1//NONSGML v1.0//EN
CALSCALE:GREGORIAN
METHOD:PUBLISH
X-WR-CALNAME:Cork College of Commerce
X-ORIGINAL-URL:http://corkcollegeofcommerce.ie
X-WR-CALDESC:Events for Cork College of Commerce
BEGIN:VEVENT
DTSTART;TZID=Europe/Dublin:20171023T130000
DTEND;TZID=Europe/Dublin:20171023T170000
DTSTAMP:20171030T000309
CREATED:20171013T114918Z
LAST-MODIFIED:20171013T114918Z
UID:9723-1508763600-1508778000@corkcollegeofcommerce.ie
SUMMARY:LinkedIn Workshop
DESCRIPTION:\n\n\n061AT\nLinkedIn\n23rd Oct\n1pm\nG26\n\n\n\n
URL:http://corkcollegeofcommerce.ie/event/linkedin-workshop-2/
CATEGORIES:LinkedIn Workshop
END:VEVENT
END:VCALENDAR