BEGIN:VCALENDAR
VERSION:2.0
PRODID:-//Cork College of Commerce - ECPv4.6.1//NONSGML v1.0//EN
CALSCALE:GREGORIAN
METHOD:PUBLISH
X-WR-CALNAME:Cork College of Commerce
X-ORIGINAL-URL:http://corkcollegeofcommerce.ie
X-WR-CALDESC:Events for Cork College of Commerce
BEGIN:VEVENT
DTSTART;TZID=Europe/Dublin:20180129T120000
DTEND;TZID=Europe/Dublin:20180129T170000
DTSTAMP:20171030T183832
CREATED:20171013T121016Z
LAST-MODIFIED:20171013T121016Z
UID:9759-1517227200-1517245200@corkcollegeofcommerce.ie
SUMMARY:LinkedIn Workshop
DESCRIPTION:\n\n\n061SV\nLinkedIn\n29th Jan\n12noon\n217\n\n\n\n
URL:http://corkcollegeofcommerce.ie/event/linkedin-workshop-19/
CATEGORIES:LinkedIn Workshop
END:VEVENT
END:VCALENDAR